BEGIN:VCALENDAR
VERSION:2.0
PRODID:-//Sint Catharinakapel - ECPv6.15.19//NONSGML v1.0//EN
CALSCALE:GREGORIAN
METHOD:PUBLISH
X-ORIGINAL-URL:https://www.sintcatharinakapel.nl
X-WR-CALDESC:Evenementen voor Sint Catharinakapel
REFRESH-INTERVAL;VALUE=DURATION:PT1H
X-Robots-Tag:noindex
X-PUBLISHED-TTL:PT1H
BEGIN:VTIMEZONE
TZID:UTC
BEGIN:STANDARD
TZOFFSETFROM:+0000
TZOFFSETTO:+0000
TZNAME:UTC
DTSTART:20230101T000000
END:STANDARD
END:VTIMEZONE
BEGIN:VEVENT
DTSTART;TZID=UTC:20240602T080000
DTEND;TZID=UTC:20240602T170000
DTSTAMP:20260420T223357
CREATED:20240429T071654Z
LAST-MODIFIED:20240506T173223Z
UID:3443-1717315200-1717347600@www.sintcatharinakapel.nl
SUMMARY:Eucharistieviering met als voorganger pastoor Fons Burm
DESCRIPTION:
URL:https://www.sintcatharinakapel.nl/bijeenkomst/viering-van-woord-gebed-en-communie-met-als-voorganger-f-b/
LOCATION:Sint Catharinakapel\, Ingang Klaverstraat\, tegenover huisnummer 35\, Bergen op Zoom\, 4611 TT
END:VEVENT
BEGIN:VEVENT
DTSTART;TZID=UTC:20240630T113000
DTEND;TZID=UTC:20240630T180000
DTSTAMP:20260420T223357
CREATED:20240522T194824Z
LAST-MODIFIED:20240522T194824Z
UID:3487-1719747000-1719770400@www.sintcatharinakapel.nl
SUMMARY:Maria Ommegang verzamelpunt
DESCRIPTION:
URL:https://www.sintcatharinakapel.nl/bijeenkomst/maria-ommegang-verzamelpunt/
END:VEVENT
BEGIN:VEVENT
DTSTART;TZID=UTC:20240728T093000
DTEND;TZID=UTC:20240728T103000
DTSTAMP:20260420T223357
CREATED:20240219T083041Z
LAST-MODIFIED:20240625T065223Z
UID:3322-1722159000-1722162600@www.sintcatharinakapel.nl
SUMMARY:Viering van Woord\, Gebed en Communie met als voorganger pastor Frieda Timmermans
DESCRIPTION:
URL:https://www.sintcatharinakapel.nl/bijeenkomst/viering-van-woord-gebed-en-communie-met-als-voorganger-frieda-timmermans-3/
LOCATION:Sint Catharinakapel\, Ingang Klaverstraat\, tegenover huisnummer 35\, Bergen op Zoom\, 4611 TT
END:VEVENT
BEGIN:VEVENT
DTSTART;TZID=UTC:20240901T093000
DTEND;TZID=UTC:20240901T103000
DTSTAMP:20260420T223357
CREATED:20240219T082035Z
LAST-MODIFIED:20240831T115022Z
UID:3308-1725183000-1725186600@www.sintcatharinakapel.nl
SUMMARY:Viering van Woord\, Gebed en Communie met als voorganger diaken Jan Foesenek
DESCRIPTION:
URL:https://www.sintcatharinakapel.nl/bijeenkomst/viering-van-woord-gebed-en-communie-met-als-voorganger-jan-foesenek-2/
LOCATION:Sint Catharinakapel\, Ingang Klaverstraat\, tegenover huisnummer 35\, Bergen op Zoom\, 4611 TT
END:VEVENT
BEGIN:VEVENT
DTSTART;TZID=UTC:20240914T110000
DTEND;TZID=UTC:20240914T170000
DTSTAMP:20260420T223358
CREATED:20240831T115354Z
LAST-MODIFIED:20240831T120506Z
UID:3518-1726311600-1726333200@www.sintcatharinakapel.nl
SUMMARY:Monumentendag zaterdag 14 september
DESCRIPTION:
URL:https://www.sintcatharinakapel.nl/bijeenkomst/monumentendag-zaterdag-14-september/
LOCATION:Sint Catharinakapel\, Ingang Klaverstraat\, tegenover huisnummer 35\, Bergen op Zoom\, 4611 TT
END:VEVENT
BEGIN:VEVENT
DTSTART;TZID=UTC:20241103T093000
DTEND;TZID=UTC:20241103T103000
DTSTAMP:20260420T223358
CREATED:20240429T071304Z
LAST-MODIFIED:20241024T074246Z
UID:3441-1730626200-1730629800@www.sintcatharinakapel.nl
SUMMARY:Eucharistieviering met als voorganger pastoor  Han Akkermans
DESCRIPTION:
URL:https://www.sintcatharinakapel.nl/bijeenkomst/viering-van-woord-gebed-en-communie-met-als-voorganger-pastor-han-akkerman/
LOCATION:Sint Catharinakapel\, Ingang Klaverstraat\, tegenover huisnummer 35\, Bergen op Zoom\, 4611 TT
END:VEVENT
BEGIN:VEVENT
DTSTART;TZID=UTC:20241109T100000
DTEND;TZID=UTC:20241109T150000
DTSTAMP:20260420T223358
CREATED:20241024T075503Z
LAST-MODIFIED:20241024T080425Z
UID:3604-1731146400-1731164400@www.sintcatharinakapel.nl
SUMMARY:Rondleidingen door Frans van den Berg en Harrie Rutten (besloten)
DESCRIPTION:
URL:https://www.sintcatharinakapel.nl/bijeenkomst/rondleidingen-door-frans-van-den-berg-en-harrie-rutten/
LOCATION:Sint Catharinakapel\, Ingang Klaverstraat\, tegenover huisnummer 35\, Bergen op Zoom\, 4611 TT
END:VEVENT
BEGIN:VEVENT
DTSTART;TZID=UTC:20241208T093000
DTEND;TZID=UTC:20241208T103000
DTSTAMP:20260420T223358
CREATED:20241127T110156Z
LAST-MODIFIED:20241127T110156Z
UID:3627-1733650200-1733653800@www.sintcatharinakapel.nl
SUMMARY:Viering van Woord\, Gebed en communie met pastor Ad Rouwendal
DESCRIPTION:
URL:https://www.sintcatharinakapel.nl/bijeenkomst/viering-van-woord-gebed-en-communie-met-pastor-ad-rouwendal/
LOCATION:Sint Catharinakapel\, Ingang Klaverstraat\, tegenover huisnummer 35\, Bergen op Zoom\, 4611 TT
END:VEVENT
BEGIN:VEVENT
DTSTART;TZID=UTC:20241215T143000
DTEND;TZID=UTC:20241215T160000
DTSTAMP:20260420T223358
CREATED:20240516T090918Z
LAST-MODIFIED:20240831T120914Z
UID:3480-1734273000-1734278400@www.sintcatharinakapel.nl
SUMMARY:Concert Mea Dulcea
DESCRIPTION:
URL:https://www.sintcatharinakapel.nl/bijeenkomst/concert-mea-dulcea/
LOCATION:Sint Catharinakapel\, Ingang Klaverstraat\, tegenover huisnummer 35\, Bergen op Zoom\, 4611 TT
END:VEVENT
BEGIN:VEVENT
DTSTART;TZID=UTC:20241224T190000
DTEND;TZID=UTC:20241224T200000
DTSTAMP:20260420T223358
CREATED:20241127T110620Z
LAST-MODIFIED:20241206T125705Z
UID:3631-1735066800-1735070400@www.sintcatharinakapel.nl
SUMMARY:Kerstviering met Vincent Schoenmakers en koor Menora
DESCRIPTION:Opgeven verplicht: per mail info@sintcatharinakapel.nl of telefonisch 0164-244983.
URL:https://www.sintcatharinakapel.nl/bijeenkomst/kerstviering-met-vincent-schoenmaker-en-koor-menora/
END:VEVENT
BEGIN:VEVENT
DTSTART;TZID=UTC:20250202T093000
DTEND;TZID=UTC:20250202T103000
DTSTAMP:20260420T223358
CREATED:20241228T190921Z
LAST-MODIFIED:20250130T091556Z
UID:3692-1738488600-1738492200@www.sintcatharinakapel.nl
SUMMARY:Viering van Woord\, Gebed en Communie met als voorganger diaken Jan Foesenek
DESCRIPTION:
URL:https://www.sintcatharinakapel.nl/bijeenkomst/viering-van-woord-gebed-en-communie/
LOCATION:Sint Catharinakapel\, Ingang Klaverstraat\, tegenover huisnummer 35\, Bergen op Zoom\, 4611 TT
END:VEVENT
BEGIN:VEVENT
DTSTART;TZID=UTC:20250306T170000
DTEND;TZID=UTC:20250306T213000
DTSTAMP:20260420T223358
CREATED:20250128T085424Z
LAST-MODIFIED:20250128T085424Z
UID:3744-1741280400-1741296600@www.sintcatharinakapel.nl
SUMMARY:Samenkomst Alpha
DESCRIPTION:
URL:https://www.sintcatharinakapel.nl/bijeenkomst/samenkomst-alpha/
LOCATION:Sint Catharinakapel\, Ingang Klaverstraat\, tegenover huisnummer 35\, Bergen op Zoom\, 4611 TT
END:VEVENT
BEGIN:VEVENT
DTSTART;TZID=UTC:20250313T170000
DTEND;TZID=UTC:20250313T213000
DTSTAMP:20260420T223358
CREATED:20250213T082206Z
LAST-MODIFIED:20250213T082206Z
UID:3748-1741885200-1741901400@www.sintcatharinakapel.nl
SUMMARY:Samenkomst Alpha
DESCRIPTION:
URL:https://www.sintcatharinakapel.nl/bijeenkomst/samenkomst-alpha-2/
END:VEVENT
BEGIN:VEVENT
DTSTART;TZID=UTC:20250330T093000
DTEND;TZID=UTC:20250330T103000
DTSTAMP:20260420T223358
CREATED:20250222T102419Z
LAST-MODIFIED:20250222T103635Z
UID:3752-1743327000-1743330600@www.sintcatharinakapel.nl
SUMMARY:Viering van Woord\, Gebed en Communie met pastor Fredi Hagendoorn
DESCRIPTION:
URL:https://www.sintcatharinakapel.nl/bijeenkomst/viering-van-woord-gebed-en-communie-met-pastor-fredi-hagendoorn/
LOCATION:Sint Catharinakapel\, Ingang Klaverstraat\, tegenover huisnummer 35\, Bergen op Zoom\, 4611 TT
END:VEVENT
BEGIN:VEVENT
DTSTART;TZID=UTC:20250413T093000
DTEND;TZID=UTC:20250413T103000
DTSTAMP:20260420T223358
CREATED:20240925T070819Z
LAST-MODIFIED:20250305T090459Z
UID:3576-1744536600-1744540200@www.sintcatharinakapel.nl
SUMMARY:Viering van Woord\, Gebed en Communie met als voorganger pastor Yolande van Steekelenburg
DESCRIPTION:
URL:https://www.sintcatharinakapel.nl/bijeenkomst/viering-van-woord-gebed-en-communie-met-als-voorganger-y-van-s/
LOCATION:Sint Catharinakapel\, Ingang Klaverstraat\, tegenover huisnummer 35\, Bergen op Zoom\, 4611 TT
END:VEVENT
BEGIN:VEVENT
DTSTART;TZID=UTC:20250511T093000
DTEND;TZID=UTC:20250511T103000
DTSTAMP:20260420T223358
CREATED:20240925T070547Z
LAST-MODIFIED:20250424T180124Z
UID:3574-1746955800-1746959400@www.sintcatharinakapel.nl
SUMMARY:Viering van Woord\, Gebed en Communie met als voorganger pastor Alida van Veldhoven
DESCRIPTION:
URL:https://www.sintcatharinakapel.nl/bijeenkomst/viering-van-woord-gebed-en-communie-met-als-voorganger-a-van-v/
LOCATION:Sint Catharinakapel\, Ingang Klaverstraat\, tegenover huisnummer 35\, Bergen op Zoom\, 4611 TT
END:VEVENT
BEGIN:VEVENT
DTSTART;TZID=UTC:20250525T093000
DTEND;TZID=UTC:20250525T103000
DTSTAMP:20260420T223358
CREATED:20240219T082945Z
LAST-MODIFIED:20250424T180319Z
UID:3320-1748165400-1748169000@www.sintcatharinakapel.nl
SUMMARY:Viering van Woord\, Gebed en Communie met als voorganger pastor Piet de Meijer
DESCRIPTION:
URL:https://www.sintcatharinakapel.nl/bijeenkomst/viering-van-woord-gebed-en-communie-met-als-voorganger-piet-de-meijer-6/
LOCATION:Sint Catharinakapel\, Ingang Klaverstraat\, tegenover huisnummer 35\, Bergen op Zoom\, 4611 TT
END:VEVENT
BEGIN:VEVENT
DTSTART;TZID=UTC:20250601T093000
DTEND;TZID=UTC:20250601T103000
DTSTAMP:20260420T223358
CREATED:20250513T070759Z
LAST-MODIFIED:20250513T070759Z
UID:3786-1748770200-1748773800@www.sintcatharinakapel.nl
SUMMARY:Eucharistieviering met als voorganger pastoor Han Akkerman
DESCRIPTION:
URL:https://www.sintcatharinakapel.nl/bijeenkomst/eucharistieviering-met-als-voorganger-pastoor-han-akkerman/
END:VEVENT
BEGIN:VEVENT
DTSTART;TZID=UTC:20250603T100000
DTEND;TZID=UTC:20250603T120000
DTSTAMP:20260420T223358
CREATED:20240202T082347Z
LAST-MODIFIED:20250513T070108Z
UID:3282-1748944800-1748952000@www.sintcatharinakapel.nl
SUMMARY:Bijeenkomst Brongroep
DESCRIPTION:
URL:https://www.sintcatharinakapel.nl/bijeenkomst/bijeenkomst-brongroep-3/
LOCATION:Sint Catharinakapel\, Ingang Klaverstraat\, tegenover huisnummer 35\, Bergen op Zoom\, 4611 TT
END:VEVENT
BEGIN:VEVENT
DTSTART;TZID=UTC:20250607T180000
DTEND;TZID=UTC:20250607T210000
DTSTAMP:20260420T223358
CREATED:20231113T152813Z
LAST-MODIFIED:20250513T070539Z
UID:3016-1749319200-1749330000@www.sintcatharinakapel.nl
SUMMARY:Bijeenkomst ‘Zin op Zaterdag’
DESCRIPTION:
URL:https://www.sintcatharinakapel.nl/bijeenkomst/bijeenkomst-zin-op-zaterdag-2/
LOCATION:Sint Catharinakapel\, Ingang Klaverstraat\, tegenover huisnummer 35\, Bergen op Zoom\, 4611 TT
CATEGORIES:Vieringen
END:VEVENT
BEGIN:VEVENT
DTSTART;TZID=UTC:20250609T120000
DTEND;TZID=UTC:20250609T170000
DTSTAMP:20260420T223358
CREATED:20250513T071020Z
LAST-MODIFIED:20250513T071020Z
UID:3788-1749470400-1749488400@www.sintcatharinakapel.nl
SUMMARY:Open Kerkendag
DESCRIPTION:
URL:https://www.sintcatharinakapel.nl/bijeenkomst/open-kerkendag/
END:VEVENT
BEGIN:VEVENT
DTSTART;TZID=UTC:20250720T093000
DTEND;TZID=UTC:20250720T103000
DTSTAMP:20260420T223358
CREATED:20240219T083206Z
LAST-MODIFIED:20250610T073954Z
UID:3324-1753003800-1753007400@www.sintcatharinakapel.nl
SUMMARY:Viering van Woord\, Gebed en Communie met als voorganger pastor Frieda Timmermans
DESCRIPTION:
URL:https://www.sintcatharinakapel.nl/bijeenkomst/viering-van-woord-gebed-en-communie-met-als-voorganger-fredi-hagendoorn/
LOCATION:Sint Catharinakapel\, Ingang Klaverstraat\, tegenover huisnummer 35\, Bergen op Zoom\, 4611 TT
END:VEVENT
BEGIN:VEVENT
DTSTART;TZID=UTC:20250913T110000
DTEND;TZID=UTC:20250913T170000
DTSTAMP:20260420T223358
CREATED:20250730T074935Z
LAST-MODIFIED:20250730T074935Z
UID:3812-1757761200-1757782800@www.sintcatharinakapel.nl
SUMMARY:Monumentenweekend
DESCRIPTION:
URL:https://www.sintcatharinakapel.nl/bijeenkomst/monumentenweekend/
END:VEVENT
BEGIN:VEVENT
DTSTART;TZID=UTC:20250914T093000
DTEND;TZID=UTC:20250914T103000
DTSTAMP:20260420T223358
CREATED:20240117T111713Z
LAST-MODIFIED:20250730T073404Z
UID:3253-1757842200-1757845800@www.sintcatharinakapel.nl
SUMMARY:Viering van Woord\, Gebed en Communie met als voorganger pastor Alida van Veldhoven
DESCRIPTION:
URL:https://www.sintcatharinakapel.nl/bijeenkomst/viering-van-woord-gebed-en-communie-met-als-voorganger-frieda-timmermans-2/
LOCATION:Sint Catharinakapel\, Ingang Klaverstraat\, tegenover huisnummer 35\, Bergen op Zoom\, 4611 TT
END:VEVENT
BEGIN:VEVENT
DTSTART;TZID=UTC:20250914T110000
DTEND;TZID=UTC:20250914T170000
DTSTAMP:20260420T223358
CREATED:20250730T075017Z
LAST-MODIFIED:20250730T075017Z
UID:3814-1757847600-1757869200@www.sintcatharinakapel.nl
SUMMARY:Monumentenweekend
DESCRIPTION:
URL:https://www.sintcatharinakapel.nl/bijeenkomst/monumentenweekend-2/
END:VEVENT
BEGIN:VEVENT
DTSTART;TZID=UTC:20251012T093000
DTEND;TZID=UTC:20251012T103000
DTSTAMP:20260420T223358
CREATED:20251006T084323Z
LAST-MODIFIED:20251006T085139Z
UID:3845-1760261400-1760265000@www.sintcatharinakapel.nl
SUMMARY:Viering van Woord\, Gebed en Communie met als voorganger pastor Fredi Hagendoorn
DESCRIPTION:
URL:https://www.sintcatharinakapel.nl/bijeenkomst/viering-van-woord-gebed-en-communie-met-als-voorganger-fredi-hagendoorn-2/
END:VEVENT
BEGIN:VEVENT
DTSTART;TZID=UTC:20251109T093000
DTEND;TZID=UTC:20251109T103000
DTSTAMP:20260420T223358
CREATED:20250730T074855Z
LAST-MODIFIED:20251006T084849Z
UID:3810-1762680600-1762684200@www.sintcatharinakapel.nl
SUMMARY:Viering van Woord\, Gebed en Communie met als voorganger pastor Ad Rouwendaal
DESCRIPTION:
URL:https://www.sintcatharinakapel.nl/bijeenkomst/viering-van-woord-gebed-en-communie-met-als-voorganger-a-r/
END:VEVENT
BEGIN:VEVENT
DTSTART;TZID=UTC:20251129T193000
DTEND;TZID=UTC:20251129T220000
DTSTAMP:20260420T223358
CREATED:20250730T075245Z
LAST-MODIFIED:20251128T081413Z
UID:3816-1764444600-1764453600@www.sintcatharinakapel.nl
SUMMARY:Lezing boekhandel Quist
DESCRIPTION:
URL:https://www.sintcatharinakapel.nl/bijeenkomst/lezing-boekhandel-quist/
END:VEVENT
BEGIN:VEVENT
DTSTART;TZID=UTC:20251219T190000
DTEND;TZID=UTC:20251219T213000
DTSTAMP:20260420T223358
CREATED:20251128T081049Z
LAST-MODIFIED:20251128T081049Z
UID:3877-1766170800-1766179800@www.sintcatharinakapel.nl
SUMMARY:Repetitie Mea Dulcea
DESCRIPTION:
URL:https://www.sintcatharinakapel.nl/bijeenkomst/repetitie-mea-dulcea/
END:VEVENT
BEGIN:VEVENT
DTSTART;TZID=UTC:20251220T200000
DTEND;TZID=UTC:20251220T213000
DTSTAMP:20260420T223358
CREATED:20251128T081212Z
LAST-MODIFIED:20251128T081212Z
UID:3879-1766260800-1766266200@www.sintcatharinakapel.nl
SUMMARY:Concert Mea Dulcea
DESCRIPTION:
URL:https://www.sintcatharinakapel.nl/bijeenkomst/concert-mea-dulcea-2/
END:VEVENT
END:VCALENDAR